{"text_format":"1","workbook":"xlsx","n_sheets":2,"sheets":["Лист1","Лист2"],"not_rendered":{"charts":0,"images":7,"macros":1,"external_links":0,"defined_names":0,"comments":1,"pivot_tables":0},"unopened":[],"bounds":{"document_bytes":16777216,"sheet_cells":100000,"rows_first":2000,"rows_last":500,"rows_between":2000,"halvings":0,"cell_chars":16384,"cell_head_chars":4096},"cells_cut":0,"cells_raw":0,"read":"whole","date_system":"1900"}

{"sheet":"Лист1","index":0,"n_rows":88,"n_cols":24,"rows_kept":88,"cut":false,"hidden":false,"merged":[[85,17,85,27],[81,2,81,3],[82,2,82,3],[83,2,83,3],[84,2,84,3],[0,4,0,7],[0,10,0,12],[1,4,1,12],[2,4,2,12],[69,12,69,14],[73,2,73,11],[73,12,73,14],[73,15,73,16],[73,17,73,27],[86,2,86,3],[76,2,76,11],[76,12,76,14],[76,15,76,16],[86,11,86,12],[86,13,86,14],[86,15,86,16],[86,17,86,27],[82,4,82,9],[81,4,81,9],[83,4,83,9],[84,4,84,9],[85,4,85,9],[86,4,86,9],[77,15,77,16],[77,17,77,27],[85,11,85,12],[85,13,85,14],[85,15,85,16],[62,2,62,9],[62,11,62,12],[62,13,62,14],[62,15,62,16],[62,17,62,27],[63,2,63,9],[63,11,63,12],[63,13,63,14],[63,15,63,16],[63,17,63,27],[60,2,60,9],[60,11,60,12],[60,13,60,14],[60,15,60,16],[60,17,60,27],[61,2,61,9],[61,11,61,12],[61,13,61,14],[61,15,61,16],[61,17,61,27],[58,2,58,9],[58,11,58,12],[58,13,58,14],[58,15,58,16],[58,17,58,27],[59,2,59,9],[59,11,59,12],[59,13,59,14],[59,15,59,16],[59,17,59,27],[56,2,56,9],[56,11,56,12],[56,13,56,14],[56,15,56,16],[56,17,56,27],[57,2,57,9],[57,11,57,12],[57,13,57,14],[57,15,57,16],[57,17,57,27],[44,2,44,9],[44,11,44,12],[44,13,44,14],[44,15,44,16],[44,17,44,27],[45,2,45,9],[45,11,45,12],[45,13,45,14],[45,15,45,16],[45,17,45,27],[42,2,42,9],[42,11,42,12],[42,13,42,14],[42,15,42,16],[42,17,42,27],[43,2,43,9],[43,11,43,12],[43,13,43,14],[43,15,43,16],[43,17,43,27],[40,2,40,9],[40,11,40,12],[40,13,40,14],[40,15,40,16],[40,17,40,27],[41,2,41,9],[41,11,41,12],[41,13,41,14],[41,15,41,16],[41,17,41,27],[23,17,23,27],[38,2,38,9],[38,11,38,12],[38,13,38,14],[38,15,38,16],[38,17,38,27],[39,2,39,9],[39,11,39,12],[39,13,39,14],[39,15,39,16],[39,17,39,27],[30,15,30,18],[34,11,34,12],[34,13,34,14],[34,15,34,16],[34,17,34,27],[33,2,33,9],[34,2,34,9],[35,2,35,9],[36,2,36,9],[37,2,37,9],[32,11,32,12],[32,13,32,14],[32,15,32,16],[74,2,74,11],[74,12,74,14],[74,15,74,16],[74,17,74,27],[75,2,75,11],[75,12,75,14],[75,15,75,16],[75,17,75,27],[76,17,76,27],[77,2,77,11],[77,12,77,14],[84,11,84,12],[84,13,84,14],[84,15,84,16],[84,17,84,27],[87,13,87,14],[87,15,87,16],[82,11,82,12],[82,13,82,14],[82,15,82,16],[82,17,82,27],[83,11,83,12],[83,13,83,14],[83,15,83,16],[83,17,83,27],[85,2,85,3],[78,13,78,14],[78,15,78,16],[80,1,80,27],[81,11,81,12],[81,13,81,14],[81,15,81,16],[81,17,81,27],[72,2,72,11],[72,12,72,14],[72,15,72,16],[72,17,72,27],[66,1,66,27],[67,2,67,11],[67,12,67,14],[67,15,67,16],[67,17,67,27],[68,2,68,11],[68,12,68,14],[68,15,68,16],[68,17,68,27],[69,15,69,16],[69,17,69,27],[70,2,70,11],[70,12,70,14],[70,15,70,16],[70,17,70,27],[71,2,71,11],[71,12,71,14],[71,15,71,16],[71,17,71,27],[69,2,69,11],[64,13,64,14],[64,15,64,16],[53,11,53,12],[53,13,53,14],[53,15,53,16],[53,17,53,27],[54,11,54,12],[54,13,54,14],[54,15,54,16],[54,17,54,27],[52,11,52,12],[52,13,52,14],[52,15,52,16],[52,17,52,27],[51,2,51,9],[52,2,52,9],[55,11,55,12],[55,13,55,14],[55,15,55,16],[55,17,55,27],[53,2,53,9],[54,2,54,9],[55,2,55,9],[50,11,50,12],[50,13,50,14],[50,15,50,16],[50,17,50,27],[49,2,49,9],[50,2,50,9],[51,11,51,12],[51,13,51,14],[51,15,51,16],[51,17,51,27],[48,26,48,27],[48,1,48,3],[48,4,48,7],[48,8,48,9],[48,10,48,14],[48,19,48,22],[48,23,48,25],[49,11,49,12],[49,13,49,14],[49,15,49,16],[49,17,49,27],[48,15,48,18],[46,13,46,14],[46,15,46,16],[35,11,35,12],[35,13,35,14],[35,15,35,16],[35,17,35,27],[36,11,36,12],[36,13,36,14],[36,15,36,16],[36,17,36,27],[37,11,37,12],[37,13,37,14],[37,15,37,16],[37,17,37,27],[32,17,32,27],[31,2,31,9],[32,2,32,9],[33,11,33,12],[33,13,33,14],[33,15,33,16],[33,17,33,27],[30,26,30,27],[30,1,30,3],[30,4,30,7],[30,8,30,9],[30,10,30,14],[30,19,30,22],[30,23,30,25],[31,11,31,12],[31,13,31,14],[31,15,31,16],[31,17,31,27],[28,13,28,14],[28,15,28,16],[28,17,28,27],[20,11,20,12],[20,13,20,14],[20,15,20,16],[20,17,20,27],[21,11,21,12],[21,13,21,14],[21,15,21,16],[21,17,21,27],[26,11,26,12],[26,13,26,14],[26,15,26,16],[26,17,26,27],[24,11,24,12],[24,13,24,14],[24,15,24,16],[24,17,24,27],[25,11,25,12],[25,13,25,14],[25,15,25,16],[25,17,25,27],[22,11,22,12],[19,11,19,12],[19,13,19,14],[19,15,19,16],[19,17,19,27],[18,2,18,9],[19,2,19,9],[27,11,27,12],[27,13,27,14],[27,15,27,16],[27,17,27,27],[20,2,20,9],[21,2,21,9],[27,2,27,9],[26,2,26,9],[24,2,24,9],[25,2,25,9],[22,2,22,9],[22,13,22,14],[22,15,22,16],[22,17,22,27],[23,2,23,9],[23,11,23,12],[23,13,23,14],[23,15,23,16],[17,11,17,12],[17,13,17,14],[17,15,17,16],[17,17,17,27],[16,2,16,9],[17,2,17,9],[18,11,18,12],[18,13,18,14],[18,15,18,16],[18,17,18,27],[15,11,15,12],[15,13,15,14],[15,15,15,16],[15,17,15,27],[14,2,14,9],[15,2,15,9],[16,11,16,12],[16,13,16,14],[16,15,16,16],[16,17,16,27],[13,11,13,12],[13,13,13,14],[13,15,13,16],[13,17,13,27],[12,2,12,9],[13,2,13,9],[14,11,14,12],[14,13,14,14],[14,15,14,16],[14,17,14,27],[11,11,11,12],[11,13,11,14],[11,15,11,16],[11,17,11,27],[10,2,10,9],[11,2,11,9],[12,11,12,12],[12,13,12,14],[12,15,12,16],[12,17,12,27],[9,11,9,12],[9,13,9,14],[9,15,9,16],[9,17,9,27],[9,2,9,9],[10,11,10,12],[10,13,10,14],[10,15,10,16],[10,17,10,27],[0,1,0,3],[0,8,0,9],[1,1,1,3],[2,1,2,3],[6,15,6,18],[7,2,7,9],[8,2,8,9],[6,26,6,27],[7,11,7,12],[7,13,7,14],[7,15,7,16],[7,17,7,27],[6,1,6,3],[6,4,6,7],[6,8,6,9],[6,10,6,14],[6,19,6,22],[6,23,6,25],[8,11,8,12],[8,13,8,14],[8,15,8,16],[8,17,8,27]]}
[null,"Заявка №:",null,null,null,null,null,null,"Дата:"]
[null,"Заказчик:"]
[null,"Телефон:"]
[]
[]
[]
[null,"Модель:",null,null,null,null,null,null,"Цвет:",null,null,null,null,null,null,"Поверхность:",null,null,null,null,null,null,null,"Толщина:"]
[null,"№","глухой/витрина",null,null,null,null,null,null,null,"Петли","Высота",null,"Ширина",null,"Кол-во",null,"Примечание"]
[null,1]
[null,2]
[null,3]
[null,4]
[null,5]
[null,6]
[null,7]
[null,8]
[null,9]
[null,10]
[null,11]
[null,12]
[null,13]
[null,14]
[null,15]
[null,16]
[null,17]
[null,18]
[null,19]
[null,20]
[null,null,null,null,null,null,null,null,null,null,null,null,null,"Итого:",null,{"$f":"IF(SUM(P9:Q28)=0,\"\",SUM(P9:Q28))","v":""}]
[]
[null,"Модель:",null,null,null,null,null,null,"Цвет:",null,null,null,null,null,null,"Поверхность:",null,null,null,null,null,null,null,"Толщина:"]
[null,1]
[null,2]
[null,3]
[null,4]
[null,5]
[null,6]
[null,7]
[null,8]
[null,9]
[null,10]
[null,11]
[null,12]
[null,13]
[null,14]
[null,15]
[null,null,null,null,null,null,null,null,null,null,null,null,null,"Итого:",null,{"$f":"IF(SUM(P32:Q46)=0,\"\",SUM(P32:Q46))","v":""}]
[]
[null,"Модель:",null,null,null,null,null,null,"Цвет:",null,null,null,null,null,null,"Поверхность:",null,null,null,null,null,null,null,"Толщина:"]
[null,1]
[null,2]
[null,3]
[null,4]
[null,5]
[null,6]
[null,7]
[null,8]
[null,9]
[null,10]
[null,11]
[null,12]
[null,13]
[null,14]
[null,15]
[null,null,null,null,null,null,null,null,null,null,null,null,null,"Итого:",null,{"$f":"IF(SUM(P50:Q64)=0,\"\",SUM(P50:Q64))","v":""}]
[]
[null,"Дополнительные элементы"]
[null,"№","Наименование",null,null,null,null,null,null,null,null,null,"Размер",null,null,"Кол-во",null,"Примечание"]
[null,1]
[null,2]
[null,3]
[null,4]
[null,5]
[null,6]
[null,7]
[null,8]
[null,9]
[null,10]
[null,null,null,null,null,null,null,null,null,null,null,null,null,"Итого:",null,{"$f":"IF(SUM(P68:Q78)=0,\"\",SUM(P68:Q78))","v":""}]
[]
[null,"Гнутые фасады"]
[null,"№","R мм",null,"глухой/витрина",null,null,null,null,null,"Петли","Высота",null,"Хорда",null,"Кол-во",null,"Примечание"]
[null,1]
[null,2]
[null,3]
[null,4]
[null,5]
[null,null,null,null,null,null,null,null,null,null,null,null,null,"Итого:",null,{"$f":"IF(SUM(P82:Q87)=0,\"\",SUM(P82:Q87))","v":""}]

{"sheet":"Лист2","index":1,"n_rows":88,"n_cols":5,"rows_kept":88,"cut":false,"hidden":true,"merged":[]}
[null,"24:28,39:46,57:64,72:78,86:87",null,null,"витрина вогнутая (1торец - 45)"]
[null,null,null,null,"витрина выгнутая"]
[null,null,null,null,"глухой вогнутый (1торец - 45)"]
[null,null,null,null,"глухой выгнутый"]
[1]
[{"$f":"IF(Лист1!C9=\"\",0,1)","v":0}]
[{"$f":"A6","v":0},"Модель"]
[{"$f":"A6","v":0},"№"]
[{"$f":"IF(Лист1!C9=\"\",0,1)","v":0},1]
[{"$f":"IF(Лист1!C10=\"\",0,1)","v":0},2]
[{"$f":"IF(Лист1!C11=\"\",0,1)","v":0},3]
[{"$f":"IF(Лист1!C12=\"\",0,1)","v":0},4]
[{"$f":"IF(Лист1!C13=\"\",0,1)","v":0},5]
[{"$f":"IF(Лист1!C14=\"\",0,1)","v":0},6]
[{"$f":"IF(Лист1!C15=\"\",0,1)","v":0},7]
[{"$f":"IF(Лист1!C16=\"\",0,1)","v":0},8]
[{"$f":"IF(Лист1!C17=\"\",0,1)","v":0},9]
[{"$f":"IF(Лист1!C18=\"\",0,1)","v":0},10]
[{"$f":"IF(Лист1!C19=\"\",0,1)","v":0},11]
[{"$f":"IF(Лист1!C20=\"\",0,1)","v":0},12]
[{"$f":"IF(Лист1!C21=\"\",0,1)","v":0},13]
[{"$f":"IF(Лист1!C22=\"\",0,1)","v":0},14]
[{"$f":"IF(Лист1!C23=\"\",0,1)","v":0},15]
[{"$f":"IF(Лист1!C24=\"\",0,1)","v":0},16]
[{"$f":"IF(Лист1!C25=\"\",0,1)","v":0},17]
[{"$f":"IF(Лист1!C26=\"\",0,1)","v":0},18]
[{"$f":"IF(Лист1!C27=\"\",0,1)","v":0},19]
[{"$f":"IF(Лист1!C28=\"\",0,1)","v":0},20]
[{"$f":"A6","v":0}]
[{"$f":"A31","v":0},"Пустая строка"]
[{"$f":"IF(Лист1!C32=\"\",0,1)","v":0},"Модель"]
[{"$f":"IF(Лист1!C32=\"\",0,1)","v":0},1]
[{"$f":"IF(Лист1!C33=\"\",0,1)","v":0},2]
[{"$f":"IF(Лист1!C34=\"\",0,1)","v":0},3]
[{"$f":"IF(Лист1!C35=\"\",0,1)","v":0},4]
[{"$f":"IF(Лист1!C36=\"\",0,1)","v":0},5]
[{"$f":"IF(Лист1!C37=\"\",0,1)","v":0},6]
[{"$f":"IF(Лист1!C38=\"\",0,1)","v":0},7]
[{"$f":"IF(Лист1!C39=\"\",0,1)","v":0},8]
[{"$f":"IF(Лист1!C40=\"\",0,1)","v":0},9]
[{"$f":"IF(Лист1!C41=\"\",0,1)","v":0},10]
[{"$f":"IF(Лист1!C42=\"\",0,1)","v":0},11]
[{"$f":"IF(Лист1!C43=\"\",0,1)","v":0},12]
[{"$f":"IF(Лист1!C44=\"\",0,1)","v":0},13]
[{"$f":"IF(Лист1!C45=\"\",0,1)","v":0},14]
[{"$f":"IF(Лист1!C46=\"\",0,1)","v":0},15]
[{"$f":"A31","v":0}]
[{"$f":"A49","v":0},"Пустая строка"]
[{"$f":"IF(Лист1!C50=\"\",0,1)","v":0},"Модель"]
[{"$f":"IF(Лист1!C50=\"\",0,1)","v":0},1]
[{"$f":"IF(Лист1!C51=\"\",0,1)","v":0},2]
[{"$f":"IF(Лист1!C52=\"\",0,1)","v":0},3]
[{"$f":"IF(Лист1!C53=\"\",0,1)","v":0},4]
[{"$f":"IF(Лист1!C54=\"\",0,1)","v":0},5]
[{"$f":"IF(Лист1!C55=\"\",0,1)","v":0},6]
[{"$f":"IF(Лист1!C56=\"\",0,1)","v":0},7]
[{"$f":"IF(Лист1!C57=\"\",0,1)","v":0},8]
[{"$f":"IF(Лист1!C58=\"\",0,1)","v":0},9]
[{"$f":"IF(Лист1!C59=\"\",0,1)","v":0},10]
[{"$f":"IF(Лист1!C60=\"\",0,1)","v":0},11]
[{"$f":"IF(Лист1!C61=\"\",0,1)","v":0},12]
[{"$f":"IF(Лист1!C62=\"\",0,1)","v":0},13]
[{"$f":"IF(Лист1!C63=\"\",0,1)","v":0},14]
[{"$f":"IF(Лист1!C64=\"\",0,1)","v":0},15]
[{"$f":"A49","v":0}]
[{"$f":"A67","v":0},"Пустая строка"]
[{"$f":"IF(Лист1!C69=\"\",0,1)","v":0},"Доп элементы"]
[{"$f":"IF(Лист1!C69=\"\",0,1)","v":0},"№"]
[{"$f":"IF(Лист1!C69=\"\",0,1)","v":0},1]
[{"$f":"IF(Лист1!C70=\"\",0,1)","v":0},2]
[{"$f":"IF(Лист1!C71=\"\",0,1)","v":0},3]
[{"$f":"IF(Лист1!C72=\"\",0,1)","v":0},4]
[{"$f":"IF(Лист1!C73=\"\",0,1)","v":0},5]
[{"$f":"IF(Лист1!C74=\"\",0,1)","v":0},6]
[{"$f":"IF(Лист1!C75=\"\",0,1)","v":0},7]
[{"$f":"IF(Лист1!C76=\"\",0,1)","v":0},8]
[{"$f":"IF(Лист1!C77=\"\",0,1)","v":0},9]
[{"$f":"IF(Лист1!C78=\"\",0,1)","v":0},10]
[{"$f":"A67","v":0}]
[{"$f":"A81","v":0},"Пустая строка"]
[{"$f":"IF(Лист1!C83=\"\",0,1)","v":0},"Гнутые фасады"]
[{"$f":"IF(Лист1!C83=\"\",0,1)","v":0},"№"]
[{"$f":"IF(Лист1!C83=\"\",0,1)","v":0},1]
[{"$f":"IF(Лист1!C84=\"\",0,1)","v":0},2]
[{"$f":"IF(Лист1!C85=\"\",0,1)","v":0},3]
[{"$f":"IF(Лист1!C86=\"\",0,1)","v":0},4]
[{"$f":"IF(Лист1!C87=\"\",0,1)","v":0},5]
[{"$f":"A81","v":0}]